BEGIN:VCALENDAR
VERSION:2.0
PRODID:icalendar-ruby
CALSCALE:GREGORIAN
METHOD:PUBLISH
BEGIN:VEVENT
DTSTAMP:20260424T022613Z
UID:31-280969@axiom.church
DTSTART:20261011T150000Z
DTEND:20261011T163000Z
CLASS:PUBLIC
CREATED:20260423T200542
DESCRIPTION:
LAST-MODIFIED:20260423T200542
LOCATION:
SUMMARY:Sunday Service
URL;VALUE=URI:https://axiom.church/events/sunday-service--31/2026-10-11
END:VEVENT
END:VCALENDAR
