BEGIN:VCALENDAR
VERSION:2.0
PRODID:icalendar-ruby
CALSCALE:GREGORIAN
METHOD:PUBLISH
BEGIN:VEVENT
DTSTAMP:20260424T035410Z
UID:31-281153@axiom.church
DTSTART:20261018T150000Z
DTEND:20261018T163000Z
CLASS:PUBLIC
CREATED:20260423T230010
DESCRIPTION:
LAST-MODIFIED:20260423T230010
LOCATION:
SUMMARY:Sunday Service
URL;VALUE=URI:https://axiom.church/events/sunday-service--31/2026-10-18
END:VEVENT
END:VCALENDAR
