BEGIN:VCALENDAR
VERSION:2.0
PRODID:icalendar-ruby
CALSCALE:GREGORIAN
METHOD:PUBLISH
BEGIN:VEVENT
DTSTAMP:20260424T051915Z
UID:31-281154@axiom.church
DTSTART:20261025T150000Z
DTEND:20261025T163000Z
CLASS:PUBLIC
CREATED:20260423T230010
DESCRIPTION:
LAST-MODIFIED:20260423T230010
LOCATION:
SUMMARY:Sunday Service
URL;VALUE=URI:https://axiom.church/events/sunday-service--31/2026-10-25
END:VEVENT
END:VCALENDAR
